BEGIN:VCALENDAR
VERSION:2.0
PRODID:-//St Lucie TPO - ECPv6.15.15//NONSGML v1.0//EN
CALSCALE:GREGORIAN
METHOD:PUBLISH
X-ORIGINAL-URL:http://www.stlucietpo.org
X-WR-CALDESC:Events for St Lucie TPO
REFRESH-INTERVAL;VALUE=DURATION:PT1H
X-Robots-Tag:noindex
X-PUBLISHED-TTL:PT1H
BEGIN:VTIMEZONE
TZID:UTC
BEGIN:STANDARD
TZOFFSETFROM:+0000
TZOFFSETTO:+0000
TZNAME:UTC
DTSTART:20160101T000000
END:STANDARD
END:VTIMEZONE
BEGIN:VEVENT
DTSTART;TZID=UTC:20171011T140000
DTEND;TZID=UTC:20171011T153000
DTSTAMP:20260426T020751
CREATED:20171005T162217Z
LAST-MODIFIED:20171005T162217Z
UID:1455-1507730400-1507735800@www.stlucietpo.org
SUMMARY:ST. LUCIE LOCAL COORDINATING BOARD FOR THE TRANSPORTATION DISADVANTAGED (LCB) RE-SCHEDULED REGULAR MEETING
DESCRIPTION:Agenda\nAgenda Packet
URL:http://www.stlucietpo.org/event/st-lucie-local-coordinating-board-for-the-transportation-disadvantaged-lcb-re-scheduled-regular-meeting/
CATEGORIES:LCB
END:VEVENT
END:VCALENDAR