BEGIN:VCALENDAR
VERSION:2.0
PRODID:-//St Lucie TPO - ECPv6.15.15//NONSGML v1.0//EN
CALSCALE:GREGORIAN
METHOD:PUBLISH
X-ORIGINAL-URL:http://www.stlucietpo.org
X-WR-CALDESC:Events for St Lucie TPO
REFRESH-INTERVAL;VALUE=DURATION:PT1H
X-Robots-Tag:noindex
X-PUBLISHED-TTL:PT1H
BEGIN:VTIMEZONE
TZID:UTC
BEGIN:STANDARD
TZOFFSETFROM:+0000
TZOFFSETTO:+0000
TZNAME:UTC
DTSTART:20190101T000000
END:STANDARD
END:VTIMEZONE
BEGIN:VEVENT
DTSTART;TZID=UTC:20201104T140000
DTEND;TZID=UTC:20201104T153000
DTSTAMP:20260423T185237
CREATED:20191231T155021Z
LAST-MODIFIED:20201029T170704Z
UID:2209-1604498400-1604503800@www.stlucietpo.org
SUMMARY:Local Coordinating Board for the Transportation Disadvantaged (LCB) Meeting
DESCRIPTION:Location:\nFenn Center\n2000 Virginia Avenue\nFort Pierce\, Florida \nParticipation in Person: Public comments may be provided at the meeting. Social distancing and face mask requirements will be observed. \nParticipation by Webconference: Using a computer or smartphone\, register at https://attendee.gotowebinar.com/register/2964735658204636430. After registering\, you will receive a confirmation email containing information about joining the webconference. Public comments may be provided during the meeting through the webconference chatbox. \nParticipation by Telephone Only: (425) 436-6341\, Access Code: 248737 \nWritten and Verbal Comments: Comment by email to TPOAdmin@stlucieco.org; by regular mail to the St. Lucie TPO\, 466 SW Port St. Lucie Boulevard\, Suite 111\, Port St. Lucie\, Florida 34953; or call 772-462-1593 until 2:00 pm on November 4\, 2020. \n\nAgenda\nAgenda Packet
URL:http://www.stlucietpo.org/event/local-coordinating-board-for-the-transportation-disadvantaged-lcb-meeting-16/
LOCATION:Fenn Center\, 2000 Virginia Avenue\, Fort Pierce\, FL\, 34982\, United States
CATEGORIES:LCB
END:VEVENT
END:VCALENDAR