BEGIN:VCALENDAR
VERSION:2.0
PRODID:-//St Lucie TPO - ECPv6.15.15//NONSGML v1.0//EN
CALSCALE:GREGORIAN
METHOD:PUBLISH
X-WR-CALNAME:St Lucie TPO
X-ORIGINAL-URL:http://www.stlucietpo.org
X-WR-CALDESC:Events for St Lucie TPO
REFRESH-INTERVAL;VALUE=DURATION:PT1H
X-Robots-Tag:noindex
X-PUBLISHED-TTL:PT1H
BEGIN:VTIMEZONE
TZID:UTC
BEGIN:STANDARD
TZOFFSETFROM:+0000
TZOFFSETTO:+0000
TZNAME:UTC
DTSTART:20210101T000000
END:STANDARD
END:VTIMEZONE
BEGIN:VEVENT
DTSTART;TZID=UTC:20220504T140000
DTEND;TZID=UTC:20220504T153000
DTSTAMP:20260421T171014
CREATED:20211117T170928Z
LAST-MODIFIED:20220427T210243Z
UID:2923-1651672800-1651678200@www.stlucietpo.org
SUMMARY:Local Coordinating Board for the Transportation Disadvantaged (LCB) Meeting
DESCRIPTION:Agenda\nAgenda Packet
URL:http://www.stlucietpo.org/event/local-coordinating-board-for-the-transportation-disadvantaged-lcb-meeting-20/
LOCATION:Coco Vista Centre\, 466 SW Port St. Lucie Blvd\, Suite 111\, Port St. Lucie\, United States
CATEGORIES:LCB
END:VEVENT
BEGIN:VEVENT
DTSTART;TZID=UTC:20220817T140000
DTEND;TZID=UTC:20220817T153000
DTSTAMP:20260421T171014
CREATED:20211117T171017Z
LAST-MODIFIED:20220810T222739Z
UID:2925-1660744800-1660750200@www.stlucietpo.org
SUMMARY:Local Coordinating Board for the Transportation Disadvantaged (LCB) Meeting
DESCRIPTION:Agenda\nAgenda Packet
URL:http://www.stlucietpo.org/event/local-coordinating-board-for-the-transportation-disadvantaged-lcb-meeting-21/
LOCATION:Coco Vista Centre\, 466 SW Port St. Lucie Blvd\, Suite 111\, Port St. Lucie\, United States
CATEGORIES:LCB
END:VEVENT
BEGIN:VEVENT
DTSTART;TZID=UTC:20221116T140000
DTEND;TZID=UTC:20221116T153000
DTSTAMP:20260421T171014
CREATED:20211117T171106Z
LAST-MODIFIED:20221108T213726Z
UID:2927-1668607200-1668612600@www.stlucietpo.org
SUMMARY:Local Coordinating Board for the Transportation Disadvantaged (LCB) Meeting
DESCRIPTION:Agenda\nAgenda Packet
URL:http://www.stlucietpo.org/event/local-coordinating-board-for-the-transportation-disadvantaged-lcb-meeting-22/
LOCATION:Coco Vista Centre\, 466 SW Port St. Lucie Blvd\, Suite 111\, Port St. Lucie\, United States
CATEGORIES:LCB
END:VEVENT
BEGIN:VEVENT
DTSTART;TZID=UTC:20230215T140000
DTEND;TZID=UTC:20230215T153000
DTSTAMP:20260421T171014
CREATED:20221129T184428Z
LAST-MODIFIED:20230209T170351Z
UID:3342-1676469600-1676475000@www.stlucietpo.org
SUMMARY:Local Coordinating Board for the Transportation Disadvantaged (LCB) Meeting
DESCRIPTION:Agenda\nAgenda Packet
URL:http://www.stlucietpo.org/event/local-coordinating-board-for-the-transportation-disadvantaged-lcb-meeting-23/
LOCATION:Coco Vista Centre\, 466 SW Port St. Lucie Blvd\, Suite 111\, Port St. Lucie\, United States
CATEGORIES:LCB
END:VEVENT
BEGIN:VEVENT
DTSTART;TZID=UTC:20230503T140000
DTEND;TZID=UTC:20230503T153000
DTSTAMP:20260421T171014
CREATED:20221129T184543Z
LAST-MODIFIED:20230426T183957Z
UID:3344-1683122400-1683127800@www.stlucietpo.org
SUMMARY:Local Coordinating Board for the Transportation Disadvantaged (LCB) Meeting
DESCRIPTION:Agenda\nAgenda Packet
URL:http://www.stlucietpo.org/event/local-coordinating-board-for-the-transportation-disadvantaged-lcb-meeting-24/
LOCATION:Coco Vista Centre\, 466 SW Port St. Lucie Blvd\, Suite 111\, Port St. Lucie\, United States
CATEGORIES:LCB
END:VEVENT
BEGIN:VEVENT
DTSTART;TZID=UTC:20230816T140000
DTEND;TZID=UTC:20230816T153000
DTSTAMP:20260421T171014
CREATED:20221129T184626Z
LAST-MODIFIED:20230810T141107Z
UID:3346-1692194400-1692199800@www.stlucietpo.org
SUMMARY:Local Coordinating Board for the Transportation Disadvantaged (LCB) Meeting
DESCRIPTION:Agenda \nAgenda Package
URL:http://www.stlucietpo.org/event/local-coordinating-board-for-the-transportation-disadvantaged-lcb-meeting-25/
LOCATION:Coco Vista Centre\, 466 SW Port St. Lucie Blvd\, Suite 111\, Port St. Lucie\, United States
CATEGORIES:LCB
END:VEVENT
BEGIN:VEVENT
DTSTART;TZID=UTC:20231129T140000
DTEND;TZID=UTC:20231129T153000
DTSTAMP:20260421T171014
CREATED:20221129T184711Z
LAST-MODIFIED:20231120T161945Z
UID:3348-1701266400-1701271800@www.stlucietpo.org
SUMMARY:Local Coordinating Board for the Transportation Disadvantaged (LCB) Meeting
DESCRIPTION:Agenda\nAgenda Packet
URL:http://www.stlucietpo.org/event/local-coordinating-board-for-the-transportation-disadvantaged-lcb-meeting-26/
LOCATION:Coco Vista Centre\, 466 SW Port St. Lucie Blvd\, Suite 111\, Port St. Lucie\, United States
CATEGORIES:LCB
END:VEVENT
BEGIN:VEVENT
DTSTART;TZID=UTC:20240221T140000
DTEND;TZID=UTC:20240221T153000
DTSTAMP:20260421T171014
CREATED:20231201T195950Z
LAST-MODIFIED:20240215T173955Z
UID:3658-1708524000-1708529400@www.stlucietpo.org
SUMMARY:Local Coordinating Board for the Transportation Disadvantaged (LCB) Meeting And Public Workshop
DESCRIPTION:Agenda\nAgenda Packet
URL:http://www.stlucietpo.org/event/local-coordinating-board-for-the-transportation-disadvantaged-lcb-meeting-27/
LOCATION:Coco Vista Centre\, 466 SW Port St. Lucie Blvd\, Suite 111\, Port St. Lucie\, United States
CATEGORIES:LCB
END:VEVENT
BEGIN:VEVENT
DTSTART;TZID=UTC:20240508T140000
DTEND;TZID=UTC:20240508T153000
DTSTAMP:20260421T171014
CREATED:20231201T200202Z
LAST-MODIFIED:20240502T153432Z
UID:3662-1715176800-1715182200@www.stlucietpo.org
SUMMARY:Local Coordinating Board for the Transportation Disadvantaged (LCB) Meeting
DESCRIPTION:Agenda\nAgenda Packet
URL:http://www.stlucietpo.org/event/local-coordinating-board-for-the-transportation-disadvantaged-lcb-meeting-29/
LOCATION:Coco Vista Centre\, 466 SW Port St. Lucie Blvd\, Suite 111\, Port St. Lucie\, United States
CATEGORIES:LCB
END:VEVENT
BEGIN:VEVENT
DTSTART;TZID=UTC:20240814T140000
DTEND;TZID=UTC:20240814T153000
DTSTAMP:20260421T171014
CREATED:20231201T200313Z
LAST-MODIFIED:20240807T135540Z
UID:3664-1723644000-1723649400@www.stlucietpo.org
SUMMARY:Local Coordinating Board for the Transportation Disadvantaged (LCB) Meeting
DESCRIPTION:Agenda\nAgenda Packet
URL:http://www.stlucietpo.org/event/local-coordinating-board-for-the-transportation-disadvantaged-lcb-meeting-30/
LOCATION:Coco Vista Centre\, 466 SW Port St. Lucie Blvd\, Suite 111\, Port St. Lucie\, United States
CATEGORIES:LCB
END:VEVENT
BEGIN:VEVENT
DTSTART;TZID=UTC:20241106T140000
DTEND;TZID=UTC:20241106T153000
DTSTAMP:20260421T171014
CREATED:20231201T200638Z
LAST-MODIFIED:20241031T094112Z
UID:3666-1730901600-1730907000@www.stlucietpo.org
SUMMARY:Local Coordinating Board for the Transportation Disadvantaged (LCB) Meeting
DESCRIPTION:Agenda\nAgenda Packet
URL:http://www.stlucietpo.org/event/local-coordinating-board-for-the-transportation-disadvantaged-lcb-meeting-31/
LOCATION:Coco Vista Centre\, 466 SW Port St. Lucie Blvd\, Suite 111\, Port St. Lucie\, United States
CATEGORIES:LCB
END:VEVENT
BEGIN:VEVENT
DTSTART;TZID=UTC:20250219T140000
DTEND;TZID=UTC:20250219T153000
DTSTAMP:20260421T171014
CREATED:20240211T174601Z
LAST-MODIFIED:20250212T181054Z
UID:6327-1739973600-1739979000@www.stlucietpo.org
SUMMARY:Local Coordinating Board for the Transportation Disadvantaged (LCB) Annual Public Hearing/Meeting
DESCRIPTION:Agenda\nAgenda Packet
URL:http://www.stlucietpo.org/event/local-coordinating-board-for-the-transportation-disadvantaged-lcb-annual-public-hearing-meeting-2/
LOCATION:Coco Vista Centre\, 466 SW Port St. Lucie Blvd\, Suite 111\, Port St. Lucie\, United States
CATEGORIES:LCB
END:VEVENT
BEGIN:VEVENT
DTSTART;TZID=UTC:20250507T140000
DTEND;TZID=UTC:20250507T153000
DTSTAMP:20260421T171014
CREATED:20241217T174640Z
LAST-MODIFIED:20250501T155431Z
UID:6329-1746626400-1746631800@www.stlucietpo.org
SUMMARY:Local Coordinating Board for the Transportation Disadvantaged (LCB) Meeting
DESCRIPTION:Agenda\nAgenda Package
URL:http://www.stlucietpo.org/event/local-coordinating-board-for-the-transportation-disadvantaged-lcb-meeting-32/
LOCATION:Coco Vista Centre\, 466 SW Port St. Lucie Blvd\, Suite 111\, Port St. Lucie\, United States
CATEGORIES:LCB
END:VEVENT
BEGIN:VEVENT
DTSTART;TZID=UTC:20250813T140000
DTEND;TZID=UTC:20250813T153000
DTSTAMP:20260421T171014
CREATED:20241217T175133Z
LAST-MODIFIED:20250807T144635Z
UID:6331-1755093600-1755099000@www.stlucietpo.org
SUMMARY:Local Coordinating Board for the Transportation Disadvantaged (LCB) Meeting
DESCRIPTION:Agenda\nAgenda Packet
URL:http://www.stlucietpo.org/event/local-coordinating-board-for-the-transportation-disadvantaged-lcb-meeting-33/
LOCATION:Coco Vista Centre\, 466 SW Port St. Lucie Blvd\, Suite 111\, Port St. Lucie\, United States
CATEGORIES:LCB
END:VEVENT
BEGIN:VEVENT
DTSTART;TZID=UTC:20251105T140000
DTEND;TZID=UTC:20251105T153000
DTSTAMP:20260421T171014
CREATED:20241217T175316Z
LAST-MODIFIED:20251030T141520Z
UID:6333-1762351200-1762356600@www.stlucietpo.org
SUMMARY:Local Coordinating Board for the Transportation Disadvantaged (LCB) Meeting
DESCRIPTION:Agenda\nAgenda Packet
URL:http://www.stlucietpo.org/event/local-coordinating-board-for-the-transportation-disadvantaged-lcb-meeting-34/
LOCATION:Coco Vista Centre\, 466 SW Port St. Lucie Blvd\, Suite 111\, Port St. Lucie\, United States
CATEGORIES:LCB
END:VEVENT
BEGIN:VEVENT
DTSTART;TZID=UTC:20260225T140000
DTEND;TZID=UTC:20260225T153000
DTSTAMP:20260421T171014
CREATED:20251204T154201Z
LAST-MODIFIED:20260219T185033Z
UID:7588-1772028000-1772033400@www.stlucietpo.org
SUMMARY:Local Coordinating Board for the Transportation Disadvantaged (LCB) Annual Public Hearing/Meeting
DESCRIPTION:Agenda\nPublic Hearing Agenda\nAgenda Packet
URL:http://www.stlucietpo.org/event/local-coordinating-board-for-the-transportation-disadvantaged-lcb-annual-public-hearing-meeting-3/
LOCATION:Coco Vista Centre\, 466 SW Port St. Lucie Blvd\, Suite 111\, Port St. Lucie\, United States
CATEGORIES:LCB
END:VEVENT
BEGIN:VEVENT
DTSTART;TZID=UTC:20260506T140000
DTEND;TZID=UTC:20260506T153000
DTSTAMP:20260421T171014
CREATED:20251204T154245Z
LAST-MODIFIED:20251204T154245Z
UID:7590-1778076000-1778081400@www.stlucietpo.org
SUMMARY:Local Coordinating Board for the Transportation Disadvantaged (LCB) Meeting
DESCRIPTION:
URL:http://www.stlucietpo.org/event/local-coordinating-board-for-the-transportation-disadvantaged-lcb-meeting-35/
LOCATION:Coco Vista Centre\, 466 SW Port St. Lucie Blvd\, Suite 111\, Port St. Lucie\, United States
CATEGORIES:LCB
END:VEVENT
BEGIN:VEVENT
DTSTART;TZID=UTC:20260819T140000
DTEND;TZID=UTC:20260819T153000
DTSTAMP:20260421T171014
CREATED:20251204T154323Z
LAST-MODIFIED:20251204T154323Z
UID:7592-1787148000-1787153400@www.stlucietpo.org
SUMMARY:Local Coordinating Board for the Transportation Disadvantaged (LCB) Meeting
DESCRIPTION:
URL:http://www.stlucietpo.org/event/local-coordinating-board-for-the-transportation-disadvantaged-lcb-meeting-36/
LOCATION:Coco Vista Centre\, 466 SW Port St. Lucie Blvd\, Suite 111\, Port St. Lucie\, United States
CATEGORIES:LCB
END:VEVENT
BEGIN:VEVENT
DTSTART;TZID=UTC:20261104T140000
DTEND;TZID=UTC:20261104T153000
DTSTAMP:20260421T171014
CREATED:20251204T154404Z
LAST-MODIFIED:20251204T154404Z
UID:7595-1793800800-1793806200@www.stlucietpo.org
SUMMARY:Local Coordinating Board for the Transportation Disadvantaged (LCB) Meeting
DESCRIPTION:
URL:http://www.stlucietpo.org/event/local-coordinating-board-for-the-transportation-disadvantaged-lcb-meeting-37/
LOCATION:Coco Vista Centre\, 466 SW Port St. Lucie Blvd\, Suite 111\, Port St. Lucie\, United States
CATEGORIES:LCB
END:VEVENT
END:VCALENDAR