BEGIN:VCALENDAR
VERSION:2.0
PRODID:-//St Lucie TPO - ECPv6.15.15//NONSGML v1.0//EN
CALSCALE:GREGORIAN
METHOD:PUBLISH
X-ORIGINAL-URL:http://www.stlucietpo.org
X-WR-CALDESC:Events for St Lucie TPO
REFRESH-INTERVAL;VALUE=DURATION:PT1H
X-Robots-Tag:noindex
X-PUBLISHED-TTL:PT1H
BEGIN:VTIMEZONE
TZID:UTC
BEGIN:STANDARD
TZOFFSETFROM:+0000
TZOFFSETTO:+0000
TZNAME:UTC
DTSTART:20150101T000000
END:STANDARD
END:VTIMEZONE
BEGIN:VTIMEZONE
TZID:UTC
BEGIN:STANDARD
TZOFFSETFROM:+0000
TZOFFSETTO:+0000
TZNAME:UTC
DTSTART:20130101T000000
END:STANDARD
END:VTIMEZONE
BEGIN:VEVENT
DTSTART;TZID=UTC:20190723T133000
DTEND;TZID=UTC:20190723T150000
DTSTAMP:20260421T222458
CREATED:20190108T181934Z
LAST-MODIFIED:20190719T194905Z
UID:1909-1563888600-1563894000@www.stlucietpo.org
SUMMARY:Technical Advisory Committee (TAC) Meeting
DESCRIPTION:Agenda\nAgenda Packet
URL:http://www.stlucietpo.org/event/technical-advisory-committee-tac-meeting-21/
LOCATION:Coco Vista Centre\, 466 SW Port St. Lucie Blvd\, Suite 111\, Port St. Lucie\, United States
CATEGORIES:TAC
END:VEVENT
BEGIN:VEVENT
DTSTART;TZID=UTC:20190521T133000
DTEND;TZID=UTC:20190521T150000
DTSTAMP:20260421T222458
CREATED:20190108T181902Z
LAST-MODIFIED:20190515T204814Z
UID:1907-1558445400-1558450800@www.stlucietpo.org
SUMMARY:Technical Advisory Committee (TAC) Meeting
DESCRIPTION:Agenda\nAgenda Packet
URL:http://www.stlucietpo.org/event/technical-advisory-committee-tac-meeting-20/
LOCATION:Coco Vista Centre\, 466 SW Port St. Lucie Blvd\, Suite 111\, Port St. Lucie\, United States
CATEGORIES:TAC
END:VEVENT
BEGIN:VEVENT
DTSTART;TZID=UTC:20190319T133000
DTEND;TZID=UTC:20190319T150000
DTSTAMP:20260421T222458
CREATED:20190108T181815Z
LAST-MODIFIED:20190313T230835Z
UID:1905-1553002200-1553007600@www.stlucietpo.org
SUMMARY:Technical Advisory Committee (TAC) Meeting
DESCRIPTION:Agenda\nAgenda Packet
URL:http://www.stlucietpo.org/event/technical-advisory-committee-tac-meeting-19/
LOCATION:Coco Vista Centre\, 466 SW Port St. Lucie Blvd\, Suite 111\, Port St. Lucie\, United States
CATEGORIES:TAC
END:VEVENT
BEGIN:VEVENT
DTSTART;TZID=UTC:20190115T133000
DTEND;TZID=UTC:20190115T150000
DTSTAMP:20260421T222458
CREATED:20190108T181738Z
LAST-MODIFIED:20190110T134926Z
UID:1903-1547559000-1547564400@www.stlucietpo.org
SUMMARY:Technical Advisory Committee (TAC) Meeting
DESCRIPTION:Agenda\nAgenda Packet
URL:http://www.stlucietpo.org/event/technical-advisory-committee-tac-meeting-14/
LOCATION:Coco Vista Centre\, 466 SW Port St. Lucie Blvd\, Suite 111\, Port St. Lucie\, United States
CATEGORIES:TAC
END:VEVENT
BEGIN:VEVENT
DTSTART;TZID=UTC:20181127T133000
DTEND;TZID=UTC:20181127T153000
DTSTAMP:20260421T222458
CREATED:20171219T153950Z
LAST-MODIFIED:20181121T155427Z
UID:1501-1543325400-1543332600@www.stlucietpo.org
SUMMARY:Joint Bicycle-Pedestrian Advisory Committee\, Technical Advisory Committee\, and the Citizens Advisory Committee Meeting
DESCRIPTION:Agenda\nAgenda Packet
URL:http://www.stlucietpo.org/event/joint-bicycle-pedestrian-advisory-committee-technical-advisory-committee-and-the-citizens-advisory-committee-meeting/
LOCATION:Coco Vista Centre\, 466 SW Port St. Lucie Blvd\, Suite 111\, Port St. Lucie\, United States
CATEGORIES:BPAC,CAC,TAC
END:VEVENT
BEGIN:VEVENT
DTSTART;TZID=UTC:20180918T133000
DTEND;TZID=UTC:20180918T150000
DTSTAMP:20260421T222458
CREATED:20171219T155609Z
LAST-MODIFIED:20180918T141559Z
UID:1522-1537277400-1537282800@www.stlucietpo.org
SUMMARY:Technical Advisory Committee (TAC) Meeting
DESCRIPTION:Agenda\nAgenda Packet
URL:http://www.stlucietpo.org/event/technical-advisory-committee-tac-meeting-18/
LOCATION:Coco Vista Centre\, 466 SW Port St. Lucie Blvd\, Suite 111\, Port St. Lucie\, United States
CATEGORIES:TAC
END:VEVENT
BEGIN:VEVENT
DTSTART;TZID=UTC:20180824T130000
DTEND;TZID=UTC:20180824T150000
DTSTAMP:20260421T222458
CREATED:20180817T135846Z
LAST-MODIFIED:20180817T135846Z
UID:1805-1535115600-1535122800@www.stlucietpo.org
SUMMARY:TECHNICAL ADVISORY COMMITTEE (TAC) Workshop
DESCRIPTION:Agenda\nAgenda Packet
URL:http://www.stlucietpo.org/event/technical-advisory-committee-tac-workshop/
LOCATION:Coco Vista Centre\, 466 SW Port St. Lucie Blvd\, Suite 111\, Port St. Lucie\, United States
CATEGORIES:TAC
END:VEVENT
BEGIN:VEVENT
DTSTART;TZID=UTC:20180717T133000
DTEND;TZID=UTC:20180717T150000
DTSTAMP:20260421T222458
CREATED:20171219T155530Z
LAST-MODIFIED:20180712T213912Z
UID:1520-1531834200-1531839600@www.stlucietpo.org
SUMMARY:Technical Advisory Committee (TAC) Meeting
DESCRIPTION:Agenda\nAgenda Packet
URL:http://www.stlucietpo.org/event/technical-advisory-committee-tac-meeting-17/
LOCATION:Coco Vista Centre\, 466 SW Port St. Lucie Blvd\, Suite 111\, Port St. Lucie\, United States
CATEGORIES:TAC
END:VEVENT
BEGIN:VEVENT
DTSTART;TZID=UTC:20180515T133000
DTEND;TZID=UTC:20180515T150000
DTSTAMP:20260421T222458
CREATED:20171219T155436Z
LAST-MODIFIED:20180510T112059Z
UID:1518-1526391000-1526396400@www.stlucietpo.org
SUMMARY:Technical Advisory Committee (TAC) Meeting
DESCRIPTION:Agenda\nAgenda Packet
URL:http://www.stlucietpo.org/event/technical-advisory-committee-tac-meeting-16/
LOCATION:Coco Vista Centre\, 466 SW Port St. Lucie Blvd\, Suite 111\, Port St. Lucie\, United States
CATEGORIES:TAC
END:VEVENT
BEGIN:VEVENT
DTSTART;TZID=UTC:20180320T133000
DTEND;TZID=UTC:20180320T150000
DTSTAMP:20260421T222458
CREATED:20171219T155357Z
LAST-MODIFIED:20180314T153129Z
UID:1516-1521552600-1521558000@www.stlucietpo.org
SUMMARY:Technical Advisory Committee (TAC) Meeting
DESCRIPTION:Agenda\nAgenda Packet
URL:http://www.stlucietpo.org/event/technical-advisory-committee-tac-meeting-15/
LOCATION:Coco Vista Centre\, 466 SW Port St. Lucie Blvd\, Suite 111\, Port St. Lucie\, United States
CATEGORIES:TAC
END:VEVENT
BEGIN:VEVENT
DTSTART;TZID=UTC:20171114T133000
DTEND;TZID=UTC:20171114T150000
DTSTAMP:20260421T222458
CREATED:20161223T210047Z
LAST-MODIFIED:20171108T151143Z
UID:1371-1510666200-1510671600@www.stlucietpo.org
SUMMARY:Technical Advisory Committee (TAC)
DESCRIPTION:Agenda\nAgenda Packet
URL:http://www.stlucietpo.org/event/technical-advisory-committee-tac-5/
LOCATION:Coco Vista Centre\, 466 SW Port St. Lucie Blvd\, Suite 111\, Port St. Lucie\, United States
CATEGORIES:TAC
END:VEVENT
BEGIN:VEVENT
DTSTART;TZID=UTC:20170927T100000
DTEND;TZID=UTC:20170927T120000
DTSTAMP:20260421T222458
CREATED:20161223T203152Z
LAST-MODIFIED:20170922T182150Z
UID:1356-1506506400-1506513600@www.stlucietpo.org
SUMMARY:BPAC\, TAC\, CAC Joint Meeting
DESCRIPTION:The meeting has been rescheduled from the 19th to the 27th at 10am.  \nJoint Meeting Bicycle-Pedestrian Advisory Committee\, the Technical Advisory Committee and the Citizens Advisory Committee\nAgenda\nAgenda Packet (Revised)
URL:http://www.stlucietpo.org/event/bpac-tac-cac-joint-meeting/
LOCATION:Coco Vista Centre\, 466 SW Port St. Lucie Blvd\, Suite 111\, Port St. Lucie\, United States
CATEGORIES:BPAC,CAC,TAC
END:VEVENT
BEGIN:VEVENT
DTSTART;TZID=UTC:20170718T133000
DTEND;TZID=UTC:20170718T150000
DTSTAMP:20260421T222458
CREATED:20161223T205726Z
LAST-MODIFIED:20170713T170156Z
UID:1370-1500384600-1500390000@www.stlucietpo.org
SUMMARY:Technical Advisory Committee (TAC)
DESCRIPTION:Agenda\nAgenda Packet
URL:http://www.stlucietpo.org/event/technical-advisory-committee-tac-4/
LOCATION:Coco Vista Centre\, 466 SW Port St. Lucie Blvd\, Suite 111\, Port St. Lucie\, United States
CATEGORIES:TAC
END:VEVENT
BEGIN:VEVENT
DTSTART;TZID=UTC:20170516T133000
DTEND;TZID=UTC:20170516T150000
DTSTAMP:20260421T222458
CREATED:20161223T205644Z
LAST-MODIFIED:20170510T201506Z
UID:1369-1494941400-1494946800@www.stlucietpo.org
SUMMARY:Technical Advisory Committee (TAC)
DESCRIPTION:Agenda\nAgenda Packet
URL:http://www.stlucietpo.org/event/technical-advisory-committee-tac-3/
LOCATION:Coco Vista Centre\, 466 SW Port St. Lucie Blvd\, Suite 111\, Port St. Lucie\, United States
CATEGORIES:TAC
END:VEVENT
BEGIN:VEVENT
DTSTART;TZID=UTC:20170314T133000
DTEND;TZID=UTC:20170314T150000
DTSTAMP:20260421T222458
CREATED:20161223T205530Z
LAST-MODIFIED:20170307T232144Z
UID:1368-1489498200-1489503600@www.stlucietpo.org
SUMMARY:Technical Advisory Committee (TAC)
DESCRIPTION:Agenda\nAgenda Packet
URL:http://www.stlucietpo.org/event/technical-advisory-committee-tac-2/
LOCATION:Coco Vista Centre\, 466 SW Port St. Lucie Blvd\, Suite 111\, Port St. Lucie\, United States
CATEGORIES:TAC
END:VEVENT
BEGIN:VEVENT
DTSTART;TZID=UTC:20170117T133000
DTEND;TZID=UTC:20170117T150000
DTSTAMP:20260421T222458
CREATED:20161223T205245Z
LAST-MODIFIED:20170111T140320Z
UID:1367-1484659800-1484665200@www.stlucietpo.org
SUMMARY:Technical Advisory Committee (TAC)
DESCRIPTION:Agenda\nAgenda Packet
URL:http://www.stlucietpo.org/event/technical-advisory-committee-tac/
LOCATION:Coco Vista Centre\, 466 SW Port St. Lucie Blvd\, Suite 111\, Port St. Lucie\, United States
CATEGORIES:TAC
END:VEVENT
BEGIN:VEVENT
DTSTART;TZID=UTC:20161115T133000
DTEND;TZID=UTC:20161115T150000
DTSTAMP:20260421T222458
CREATED:20151222T182249Z
LAST-MODIFIED:20161109T153437Z
UID:1214-1479216600-1479222000@www.stlucietpo.org
SUMMARY:CAC\, BPAC\, TAC Joint Meeting
DESCRIPTION:Agenda\nAgenda Packet
URL:http://www.stlucietpo.org/event/cac-bpac-tac-joint-meeting/
LOCATION:Coco Vista Centre\, 466 SW Port St. Lucie Blvd\, Suite 111\, Port St. Lucie\, United States
CATEGORIES:BPAC,CAC,TAC
END:VEVENT
BEGIN:VEVENT
DTSTART;TZID=UTC:20160712T133000
DTEND;TZID=UTC:20160712T160000
DTSTAMP:20260421T222458
CREATED:20151222T182732Z
LAST-MODIFIED:20160706T123235Z
UID:1218-1468330200-1468339200@www.stlucietpo.org
SUMMARY:Technical Advisory Committee (TAC) Meeting
DESCRIPTION:Agenda\nAgenda Packet
URL:http://www.stlucietpo.org/event/technical-advisory-committee-tac-meeting-13/
LOCATION:Coco Vista Centre\, 466 SW Port St. Lucie Blvd\, Suite 111\, Port St. Lucie\, United States
CATEGORIES:TAC
END:VEVENT
BEGIN:VEVENT
DTSTART;TZID=UTC:20160517T133000
DTEND;TZID=UTC:20160517T160000
DTSTAMP:20260421T222458
CREATED:20151222T182649Z
LAST-MODIFIED:20160510T205738Z
UID:1217-1463491800-1463500800@www.stlucietpo.org
SUMMARY:Technical Advisory Committee (TAC) Meeting
DESCRIPTION:Agenda\nAgenda Packet
URL:http://www.stlucietpo.org/event/technical-advisory-committee-tac-meeting-10/
LOCATION:Coco Vista Centre\, 466 SW Port St. Lucie Blvd\, Suite 111\, Port St. Lucie\, United States
CATEGORIES:TAC
END:VEVENT
BEGIN:VEVENT
DTSTART;TZID=UTC:20160308T133000
DTEND;TZID=UTC:20160308T150000
DTSTAMP:20260421T222458
CREATED:20151222T182611Z
LAST-MODIFIED:20160302T211432Z
UID:1216-1457443800-1457449200@www.stlucietpo.org
SUMMARY:Technical Advisory Committee (TAC) Meeting
DESCRIPTION:Meeting Agenda (PDF)\nMeeting Agenda Packet (PDF)
URL:http://www.stlucietpo.org/event/technical-advisory-committee-tac-meeting-9/
LOCATION:Coco Vista Centre\, 466 SW Port St. Lucie Blvd\, Suite 111\, Port St. Lucie\, United States
CATEGORIES:TAC
END:VEVENT
BEGIN:VEVENT
DTSTART;TZID=UTC:20160112T133000
DTEND;TZID=UTC:20160112T160000
DTSTAMP:20260421T222458
CREATED:20151222T182529Z
LAST-MODIFIED:20160106T205501Z
UID:1215-1452605400-1452614400@www.stlucietpo.org
SUMMARY:Technical Advisory Committee (TAC) Meeting
DESCRIPTION:Agenda Packet (5.2 MB PDF)
URL:http://www.stlucietpo.org/event/technical-advisory-committee-tac-meeting-7/
LOCATION:Coco Vista Centre\, 466 SW Port St. Lucie Blvd\, Suite 111\, Port St. Lucie\, United States
CATEGORIES:TAC
END:VEVENT
BEGIN:VEVENT
DTSTART;TZID=UTC:20151117T133000
DTEND;TZID=UTC:20151117T150000
DTSTAMP:20260421T222458
CREATED:20150203T191616Z
LAST-MODIFIED:20151113T191501Z
UID:1100-1447767000-1447772400@www.stlucietpo.org
SUMMARY:Technical Advisory Committee (TAC) Meeting
DESCRIPTION:Agenda Packet (PDF 7.5 MB)
URL:http://www.stlucietpo.org/event/technical-advisory-committee-tac-meeting-6/
CATEGORIES:TAC
END:VEVENT
BEGIN:VEVENT
DTSTART;TZID=UTC:20151105T140000
DTEND;TZID=UTC:20151105T153000
DTSTAMP:20260421T222458
CREATED:20151030T191717Z
LAST-MODIFIED:20151030T191717Z
UID:1176-1446732000-1446737400@www.stlucietpo.org
SUMMARY:TREASURE COAST TECHNICAL ADVISORY COMMITTEE (TCTAC)
DESCRIPTION:Agenda Packet
URL:http://www.stlucietpo.org/event/treasure-coast-technical-advisory-committee-tctac/
LOCATION:Coco Vista Centre\, 466 SW Port St. Lucie Blvd\, Suite 111\, Port St. Lucie\, United States
CATEGORIES:TAC
END:VEVENT
BEGIN:VEVENT
DTSTART;TZID=UTC:20150915T133000
DTEND;TZID=UTC:20150915T163000
DTSTAMP:20260421T222458
CREATED:20150910T150333Z
LAST-MODIFIED:20150910T152101Z
UID:1155-1442323800-1442334600@www.stlucietpo.org
SUMMARY:TAC\, CAC\, BPAC Joint Meeting
DESCRIPTION:Agenda Packet
URL:http://www.stlucietpo.org/event/tac-cac-bpac-joint-meeting/
CATEGORIES:BPAC,CAC,TAC
END:VEVENT
BEGIN:VEVENT
DTSTART;TZID=UTC:20150911T220000
DTEND;TZID=UTC:20150911T220000
DTSTAMP:20260421T222458
CREATED:20150910T151047Z
LAST-MODIFIED:20150910T151047Z
UID:1158-1442008800-1442008800@www.stlucietpo.org
SUMMARY:St Lucie TPO Consensus Building Workshop
DESCRIPTION:
URL:http://www.stlucietpo.org/event/st-lucie-tpo-consensus-building-workshop/
LOCATION:St Lucie TPO Office\, 66 SW Port St Lucie Blvd 111\, Port St Lucie\, FL\, 34953\, United States
CATEGORIES:BPAC,CAC,TAC
END:VEVENT
BEGIN:VEVENT
DTSTART;TZID=UTC:20150721T133000
DTEND;TZID=UTC:20150721T150000
DTSTAMP:20260421T222458
CREATED:20141118T225117Z
LAST-MODIFIED:20150720T181230Z
UID:926-1437485400-1437490800@www.stlucietpo.org
SUMMARY:Technical Advisory Committee (TAC) Meeting
DESCRIPTION:Agenda Packet
URL:http://www.stlucietpo.org/event/technical-advisory-committee-tac-meeting-8/
LOCATION:Coco Vista Centre\, 466 SW Port St. Lucie Blvd\, Suite 111\, Port St. Lucie\, United States
CATEGORIES:TAC
END:VEVENT
BEGIN:VEVENT
DTSTART;TZID=UTC:20150519T133000
DTEND;TZID=UTC:20150519T150000
DTSTAMP:20260421T222458
CREATED:20141209T144106Z
LAST-MODIFIED:20150518T141555Z
UID:982-1432042200-1432047600@www.stlucietpo.org
SUMMARY:Technical Advisory Committee (TAC) Meeting
DESCRIPTION:Agenda Packet PDF (10 MB)
URL:http://www.stlucietpo.org/event/technical-advisory-committee-tac-meeting-12/
LOCATION:Coco Vista Centre\, 466 SW Port St. Lucie Blvd\, Suite 111\, Port St. Lucie\, United States
CATEGORIES:TAC
END:VEVENT
BEGIN:VEVENT
DTSTART;TZID=UTC:20150310T133000
DTEND;TZID=UTC:20150310T150000
DTSTAMP:20260421T222458
CREATED:20141209T144026Z
LAST-MODIFIED:20150310T164533Z
UID:981-1425994200-1425999600@www.stlucietpo.org
SUMMARY:Technical Advisory Committee (TAC) Meeting
DESCRIPTION:Agenda Packet
URL:http://www.stlucietpo.org/event/technical-advisory-committee-tac-meeting-11/
LOCATION:Coco Vista Centre\, 466 SW Port St. Lucie Blvd\, Suite 111\, Port St. Lucie\, United States
CATEGORIES:TAC
END:VEVENT
BEGIN:VEVENT
DTSTART;TZID=UTC:20150113T133000
DTEND;TZID=UTC:20150113T150000
DTSTAMP:20260421T222458
CREATED:20141118T224901Z
LAST-MODIFIED:20150112T174909Z
UID:923-1421155800-1421161200@www.stlucietpo.org
SUMMARY:Technical Advisory Committee (TAC) Meeting
DESCRIPTION:Download Agenda Packet
URL:http://www.stlucietpo.org/event/technical-advisory-committee-tac-meeting-5/
LOCATION:Coco Vista Centre\, 466 SW Port St. Lucie Blvd\, Suite 111\, Port St. Lucie\, United States
CATEGORIES:TAC
END:VEVENT
BEGIN:VEVENT
DTSTART;TZID=UTC:20141118T133000
DTEND;TZID=UTC:20141118T160000
DTSTAMP:20260421T222458
CREATED:20140122T152028Z
LAST-MODIFIED:20141118T124830Z
UID:172-1416317400-1416326400@www.stlucietpo.org
SUMMARY:Bicycle-Pedestrian Advisory Committee (BPAC)\, Technical Advisory Committee (TAC)\, Citizens Advisory Committee (CAC) Joint Meeting
DESCRIPTION:TAC\, CAC\, BPAC Meeting Agenda Packet
URL:http://www.stlucietpo.org/event/bicycle-pedestrian-advisory-committee-bpac-meeting-6/
CATEGORIES:BPAC,CAC,TAC
END:VEVENT
END:VCALENDAR